BEGIN:VCALENDAR
VERSION:2.0
PRODID:-//orienteering.lu//NONSGML kigkonsult.se iCalcreator 2.10.5//
METHOD:PUBLISH
X-WR-CALDESC:
X-WR-TIMEZONE:Europe/Luxembourg
BEGIN:VEVENT
UID:20180701T084645CEST-55762okukt@orienteering.lu
DTSTAMP:20180701T060745Z
CREATED:20170920T225541Z
DESCRIPTION:
DTSTART;VALUE=DATE:20170924
DTEND;VALUE=DATE:20170924
LAST-MODIFIED:20170920T225908Z
LOCATION:Kantonnale baan\, As\, Hasselt\, Limburg\, Flanders\, 3665\, Belgi
 um (51.012482\, 5.579195\, 9)
SUMMARY:Long distance championship\, Belgium
URL:https://orienteering.lu/en/calendar/events/long-distance-championship-b
 elgium-2017/
END:VEVENT
END:VCALENDAR
