BEGIN:VCALENDAR
VERSION:2.0
PRODID:-//orienteering.lu//NONSGML kigkonsult.se iCalcreator 2.10.5//
METHOD:PUBLISH
X-WR-CALDESC:<p>We propose a short distance orienteering (sprint format) in
  the park around Coque. It is a perfect introduction for newcomers. Feel f
 ree to join from 13:30 to 16:30. The meeting point is the playground close
  to Kyosk snack bar (See map below).</p>\n\n<p>We propose:</p>\n\n<ul><li>
 Squirrel map: around 2km.</li>\n	<li>Rabbit map: around 4km.</li>\n	<li>De
 er map: around 6km.</li>\n</ul><p>If you want to join\, please inform us b
 y email <strong>gabiz(at)freemail.hu</strong> on the number of maps you'll
  need <strong>before Friday\, 6th at 16:00</strong> !</p>\n\n<p>Gabi and J
 ulien</p>
X-WR-TIMEZONE:Europe/Luxembourg
BEGIN:VEVENT
UID:20180701T084619CEST-3292GXWgsO@orienteering.lu
DTSTAMP:20180701T060719Z
CREATED:20170924T211104Z
DESCRIPTION:We propose a short distance orienteering (sprint format) in the
  park around Coque. It is a perfect introduction for newcomers. Feel free 
 to join from 13:30 to 16:30. The meeting point is the playground close to 
 Kyosk snack bar (See map below).\n\nWe propose:\n\nSquirrel map: around 2k
 m.\n	Rabbit map: around 4km.\n	Deer map: around 6km.\nIf you want to join\
 , please inform us by email gabiz(at)freemail.hu on the number of maps you
 'll need before Friday\, 6th at 16:00 !\n\nGabi and Julien
DTSTART:20171008T130000
DTEND:20171008T163000
LAST-MODIFIED:20170926T231950Z
LOCATION:Avenue John F. Kennedy\, Parc Central\, Kirchberg\, Luxembourg\, C
 anton Luxembourg\, 1855\, Luxembourg (49.625015\, 6.155906\, 16)
SUMMARY:Orienteering training\, in Coque-Kirchberg
URL:https://orienteering.lu/en/calendar/events/orienteering-training-in-coq
 ue-kirchberg/
END:VEVENT
END:VCALENDAR
