BEGIN:VCALENDAR
VERSION:2.0
PRODID:-//orienteering.lu//NONSGML kigkonsult.se iCalcreator 2.10.5//
METHOD:PUBLISH
X-WR-CALDESC:<p>See you from 15:00 to 16:00\, in Bambesch\, for an orientee
 ring training organised by Elisabet. The meeting point is NOT at the playg
 round as usual: It is at the parking 'rue des Arpents' (See map below).</p
 >\n\n<p>This orienteering will be a star-orienteering: the many paths to r
 un require careful orientation. Therefore you need to bring your own compa
 ss! Introduction for beginners! Please register until Saturday 14th by ema
 il to <strong>elisabet.wirtz(at)lemmel.at</strong>.</p>
X-WR-TIMEZONE:Europe/Luxembourg
BEGIN:VEVENT
UID:20180701T084559CEST-4066BklxR7@orienteering.lu
DTSTAMP:20180701T060759Z
CREATED:20170924T214247Z
DESCRIPTION:See you from 15:00 to 16:00\, in Bambesch\, for an orienteering
  training organised by Elisabet. The meeting point is NOT at the playgroun
 d as usual: It is at the parking 'rue des Arpents' (See map below).\n\nThi
 s orienteering will be a star-orienteering: the many paths to run require 
 careful orientation. Therefore you need to bring your own compass! Introdu
 ction for beginners! Please register until Saturday 14th by email to elisa
 bet.wirtz(at)lemmel.at.
DTSTART:20171015T150000
DTEND:20171015T160000
LAST-MODIFIED:20171010T081926Z
LOCATION:Rue des Sept-Arpents\, Mühlenbach\, Muhlenbach\, Luxembourg\, Cant
 on Luxembourg\, 7232\, Luxembourg (49.636078\, 6.115887\, 16)
SUMMARY:Orienteering training\, Bambesch
URL:https://orienteering.lu/en/calendar/events/orienteering-training-luxemb
 ourg/
END:VEVENT
END:VCALENDAR
