BEGIN:VCALENDAR
VERSION:2.0
PRODID:-//orienteering.lu//NONSGML kigkonsult.se iCalcreator 2.10.5//
METHOD:PUBLISH
X-WR-CALDESC:<p>- A short lesson for beginners on azimuth followed by pract
 ice\, and something more advanced for those who know how.</p>\n\n<p>- 2 O-
 sprint courses (1 short and 1 longer one).</p>\n\n<p>Please bring your com
 pass if you have. We will try to bring more compasses for those not having
  one</p>\n\n<p>Let us know at the latest on Saturday evening if you come.<
 /p>\n\n<p>Looking forward\, Míša and Ondra</p>
X-WR-TIMEZONE:Europe/Luxembourg
BEGIN:VEVENT
UID:20180701T084433CEST-16017VzVXc@orienteering.lu
DTSTAMP:20180701T060733Z
CREATED:20170924T214424Z
DESCRIPTION:- A short lesson for beginners on azimuth followed by practice\
 , and something more advanced for those who know how.\n\n- 2 O-sprint cour
 ses (1 short and 1 longer one).\n\nPlease bring your compass if you have. 
 We will try to bring more compasses for those not having one\n\nLet us kno
 w at the latest on Saturday evening if you come.\n\nLooking forward\, Míša
  and Ondra
DTSTART:20171112T150000
DTEND:20171112T170000
LAST-MODIFIED:20171113T071932Z
LOCATION:Rue Jean Majerus\, Mersch\, Canton Mersch\, 7555\, Lucembursko (49
 .746944\, 6.107326\, 16)
SUMMARY:Compass/azimuth training in Mersch park
URL:https://orienteering.lu/en/calendar/events/compass-azimuth-training-in-
 mersch-park/
END:VEVENT
END:VCALENDAR
