BEGIN:VCALENDAR
VERSION:2.0
PRODID:-//orienteering.lu//NONSGML kigkonsult.se iCalcreator 2.10.5//
METHOD:PUBLISH
X-WR-CALDESC:<p>We propose a long distance trail-orienteering training in G
 rünewald forest around Niederanven. You will be provided a 1:15'000 (1cm=1
 50m) simplified map showing main trails\, contour lines and few additionna
 l landmarks (see an overview <a href='http://ahahah.eu/luxoc/map/'>here</a
 >). Around 15 control points will be shown on the map. The control points 
 will have different values depending on the difficulty to find them and ho
 w far they are from the start. You are free to visit as many points as pos
 sible in the order of your choice. A punch cards will be provided to valid
 ate the control points you visit. Visiting all points would take minimum 1
 h40min for approximativelly 15km - but no obligation to visit all of them 
 ! A ranking will be established based on a score computed with the followi
 ng <strong>very</strong> elaborate formula:</p>\n\n<p><em>Score = Sum(valu
 es of control points visited) * (1+Abs(age-25)*0.01) - Time(in minutes)</e
 m>.</p>\n\n<p>In other words: One point is equivalent to a minute\, and so
 me bonus points are granted to participants younger/elder than 25 (1% per 
 year above/below 25).</p>\n\n<p>You are free to participate in groups\, of
  course !</p>\n\n<p><strong>Meeting point</strong>: Senningerberg 'Charly'
 s gare'\, at water tower parking behind the pizzeria. Reachable by bus 29 
 after the airport or by bike (path PC 2).</p>\n\n<p><strong>Time:</strong>
  From 13:00 to the sunset... maybe later if you dare asking !</p>\n\n<p><s
 trong>Please let us know by email (julien.gaffuri(at)gmail.com) <em>before
  Friday 1st at 18:00</em> if you wish to come so that we can prepare a map
  for you.</strong></p>\n\n<h6>Disclaimer: All participants take part in ev
 ents entirely at their own risk. LuxOC shall not be liable for any acciden
 ts\, injury\, loss or damage sustained as a consequence of participation i
 n any of its events. Any competitor who has any doubts about their fitness
  or ability to take part in any event\, should consult a health profession
 al before considering participation.</h6>
X-WR-TIMEZONE:Europe/Luxembourg
BEGIN:VEVENT
UID:20180701T084346CEST-7292zfoW0x@orienteering.lu
DTSTAMP:20180701T060746Z
CREATED:20170924T214621Z
DESCRIPTION:We propose a long distance trail-orienteering training in Grüne
 wald forest around Niederanven. You will be provided a 1:15'000 (1cm=150m)
  simplified map showing main trails\, contour lines and few additionnal la
 ndmarks (see an overview here). Around 15 control points will be shown on 
 the map. The control points will have different values depending on the di
 fficulty to find them and how far they are from the start. You are free to
  visit as many points as possible in the order of your choice. A punch car
 ds will be provided to validate the control points you visit. Visiting all
  points would take minimum 1h40min for approximativelly 15km - but no obli
 gation to visit all of them ! A ranking will be established based on a sco
 re computed with the following very elaborate formula:\n\nScore = Sum(valu
 es of control points visited) * (1+Abs(age-25)*0.01) - Time(in minutes).
 In other words: One point is equivalent to a minute\, and some bonus point
 s are granted to participants younger/elder than 25 (1% per year above/bel
 ow 25).\n\nYou are free to participate in groups\, of course !\n\nMeeting 
 point: Senningerberg 'Charly's gare'\, at water tower parking behind the p
 izzeria. Reachable by bus 29 after the airport or by bike (path PC 2).\n
 Time: From 13:00 to the sunset... maybe later if you dare asking !\n\nPlea
 se let us know by email (julien.gaffuri(at)gmail.com) before Friday 1st at
  18:00 if you wish to come so that we can prepare a map for you.\n\nDiscla
 imer: All participants take part in events entirely at their own risk. Lux
 OC shall not be liable for any accidents\, injury\, loss or damage sustain
 ed as a consequence of participation in any of its events. Any competitor 
 who has any doubts about their fitness or ability to take part in any even
 t\, should consult a health professional before considering participation.
DTSTART:20171202T130000
DTEND:20171203T060000
LAST-MODIFIED:20171205T091844Z
LOCATION:Ancienne ligne Luxembourg - Echternach\, Niederanven\, Canton Luxe
 mbourg\, 6182\, Luxembourg (49.649765\, 6.225600\, 15)
SUMMARY:Long distance trail orienteering\, Senningerberg
URL:https://orienteering.lu/en/calendar/events/long-distance-trail-orientee
 ring-senningerberg/
END:VEVENT
END:VCALENDAR
