BEGIN:VCALENDAR
VERSION:2.0
PRODID:-//orienteering.lu//NONSGML kigkonsult.se iCalcreator 2.10.5//
METHOD:PUBLISH
X-WR-CALDESC:<p>See you from 19:00 in Sandweiler for the 2017 christmas par
 ty evening orgznised by David.</p>
X-WR-TIMEZONE:Europe/Luxembourg
BEGIN:VEVENT
UID:20180701T084319CEST-9505hKu19u@orienteering.lu
DTSTAMP:20180701T060719Z
CREATED:20170924T214819Z
DESCRIPTION:See you from 19:00 in Sandweiler for the 2017 christmas party e
 vening orgznised by David.
DTSTART:20171212T190000
LAST-MODIFIED:20171205T010211Z
LOCATION:Am Steffesgaart\, Sandweiler\, Canton Luxembourg\, 5222\, Luxembou
 rg (49.612350\, 6.226180\, 15)
SUMMARY:Christmas party evening\, Sandweiler
URL:https://orienteering.lu/en/calendar/events/christmas-party-evening/
END:VEVENT
END:VCALENDAR
