BEGIN:VCALENDAR
VERSION:2.0
PRODID:-//orienteering.lu//NONSGML kigkonsult.se iCalcreator 2.10.5//
METHOD:PUBLISH
X-WR-CALDESC:<p>Let's meet every Wednesday and have a run together. We will
  run easy and if needed can do several groups\, depending on the speed. We
  might do some running exercises together as well\, depending on the mood.
 </p>\n\n<p>Misa</p>
X-WR-TIMEZONE:Europe/Luxembourg
BEGIN:VEVENT
UID:20180701T084632CEST-9226aaDXh5@orienteering.lu
DTSTAMP:20180701T060732Z
CREATED:20170929T200015Z
DESCRIPTION:Let's meet every Wednesday and have a run together. We will run
  easy and if needed can do several groups\, depending on the speed. We mig
 ht do some running exercises together as well\, depending on the mood.\n
 Misa
DTSTART:20171004T190000
DTEND:20171004T200000
LAST-MODIFIED:20170929T200345Z
LOCATION:Mühlenbach\, Muhlenbach\, Luxembourg\, Canton Luxembourg\, Luxembo
 urg (49.632648\, 6.114287\, 16)
SUMMARY:Weekly running: Wednesdays at 7pm in Bambësch: 04/10/2017
URL:https://orienteering.lu/en/calendar/events/weekly-running-wednesdays-at
 -7pm-in-bambesch_2017-10-04/
END:VEVENT
END:VCALENDAR
