BEGIN:VCALENDAR
VERSION:2.0
PRODID:-//orienteering.lu//NONSGML kigkonsult.se iCalcreator 2.10.5//
METHOD:PUBLISH
X-WR-CALDESC:
X-WR-TIMEZONE:Europe/Luxembourg
BEGIN:VEVENT
UID:20180701T084625CEST-8627nEZDWP@orienteering.lu
DTSTAMP:20180701T060725Z
CREATED:20171002T231112Z
DESCRIPTION:
DTSTART:20171008T090000
LAST-MODIFIED:20171002T231351Z
LOCATION:Guisbonnes\, Rombas\, Metz\, Moselle\, Grand-Est\, France métropol
 itaine\, 57120\, France (49.241447\, 6.078186\, 13)
SUMMARY:Regional race in Rombas
URL:https://orienteering.lu/en/calendar/events/regional-race-rombas/
END:VEVENT
END:VCALENDAR
