BEGIN:VCALENDAR
VERSION:2.0
PRODID:-//orienteering.lu//NONSGML kigkonsult.se iCalcreator 2.10.5//
METHOD:PUBLISH
X-WR-CALDESC:<p>Let's meet every Wednesday and have a run together. We will
  run easy and if needed can do several groups\, depending on the speed. We
  might do some running exercises together as well\, depending on the mood.
 </p>\n\n<p>Please bring a lamp!!! It is dark pretty soon.</p>
X-WR-TIMEZONE:Europe/Luxembourg
BEGIN:VEVENT
UID:20180701T084612CEST-70849desVg@orienteering.lu
DTSTAMP:20180701T060712Z
CREATED:20171009T102345Z
DESCRIPTION:Let's meet every Wednesday and have a run together. We will run
  easy and if needed can do several groups\, depending on the speed. We mig
 ht do some running exercises together as well\, depending on the mood.\n
 Please bring a lamp!!! It is dark pretty soon.
DTSTART:20171011T190000
DTEND:20171011T200000
LAST-MODIFIED:20171013T082032Z
LOCATION:Allée des Présidents\, Mühlenbach\, Muhlenbach\, Luxembourg\, Cant
 on Luxembourg\, 2241\, Luxembourg (49.632610\, 6.114042\, 16)
SUMMARY:Weekly running: Wednesdays at 7pm in Bambësch: 11/10/2017 Please br
 ing a lamp!
URL:https://orienteering.lu/en/calendar/events/weekly-running-wednesdays-at
 -7pm-in-bambesch-11-10-2017/
END:VEVENT
END:VCALENDAR
