BEGIN:VCALENDAR
VERSION:2.0
PRODID:-//orienteering.lu//NONSGML kigkonsult.se iCalcreator 2.10.5//
METHOD:PUBLISH
X-WR-CALDESC:<ul><li>Moselle championship\, in Guénange\, organised by CSAG
 -Metz.</li>\n	<li>Only on-site registration\, from 9:30. Departure from 10
 :00 to 11:30</li>\n	<li>2.3\, 4 or 7.3 km</li>\n	<li>Fees: 4€/person\, 10€
 /family</li>\n</ul>
X-WR-TIMEZONE:Europe/Luxembourg
BEGIN:VEVENT
UID:20180701T084453CEST-9937XNzukM@orienteering.lu
DTSTAMP:20180701T060753Z
CREATED:20171014T203953Z
DESCRIPTION:Moselle championship\, in Guénange\, organised by CSAG-Metz.\n	
 Only on-site registration\, from 9:30. Departure from 10:00 to 11:30\n	2.3
 \, 4 or 7.3 km\n	Fees: 4€/person\, 10€/family
DTSTART:20171112T093000
DTEND:20171112T120000
LAST-MODIFIED:20171014T204923Z
LOCATION:Château de Blettange\, Bousse\, Thionville\, Moselle\, Grand-Est\,
  France métropolitaine\, 57310\, France (49.299156\, 6.191225\, 14)
SUMMARY:Championnat de Moselle 2017
URL:https://orienteering.lu/en/calendar/events/championnat-de-moselle-2017/
END:VEVENT
END:VCALENDAR
