BEGIN:VCALENDAR
VERSION:2.0
PRODID:-//orienteering.lu//NONSGML kigkonsult.se iCalcreator 2.10.5//
METHOD:PUBLISH
X-WR-CALDESC:<p>Let's meet every Wednesday and have a run together. We will
  run easy and if needed can do several groups\, depending on the speed. We
  might do some running exercises together as well\, depending on the mood.
 </p>\n\n<p>Please bring a lamp!!! It is dark pretty soon.</p>
X-WR-TIMEZONE:Europe/Luxembourg
BEGIN:VEVENT
UID:20180701T084537CEST-1762Ig1Puk@orienteering.lu
DTSTAMP:20180701T060737Z
CREATED:20171024T123744Z
DESCRIPTION:Let's meet every Wednesday and have a run together. We will run
  easy and if needed can do several groups\, depending on the speed. We mig
 ht do some running exercises together as well\, depending on the mood.\n
 Please bring a lamp!!! It is dark pretty soon.
DTSTART:20171025T190000
DTEND:20171025T200000
LAST-MODIFIED:20171113T214525Z
LOCATION:Allée des Présidents\, Mühlenbach\, Muhlenbach\, Luxembourg\, Cant
 on Luxembourg\, 2241\, Luxembourg (49.632629\, 6.113974\, 16)
SUMMARY:Weekly running: Wednesdays at 7pm in Bambësch: 25/10/2017
URL:https://orienteering.lu/en/calendar/events/weekly-running-wednesdays-at
 -7pm-in-bambesch-25-10-2017/
END:VEVENT
END:VCALENDAR
