BEGIN:VCALENDAR
VERSION:2.0
PRODID:-//orienteering.lu//NONSGML kigkonsult.se iCalcreator 2.10.5//
METHOD:PUBLISH
X-WR-CALDESC:<p>Let's meet every Wednesday and have a run together. We will
  run easy and if needed can do several groups\, depending on the speed. We
  might do some running exercises together as well\, depending on the mood.
 </p>\n\n<p>Please bring a lamp. It is dark pretty soon.</p>
X-WR-TIMEZONE:Europe/Luxembourg
BEGIN:VEVENT
UID:20180701T084420CEST-5515eDUA6U@orienteering.lu
DTSTAMP:20180701T060720Z
CREATED:20171119T163805Z
DESCRIPTION:Let's meet every Wednesday and have a run together. We will run
  easy and if needed can do several groups\, depending on the speed. We mig
 ht do some running exercises together as well\, depending on the mood.\n
 Please bring a lamp. It is dark pretty soon.
DTSTART:20171122T190000
DTEND:20171122T200000
LAST-MODIFIED:20171119T164134Z
LOCATION:Allée des Présidents\, Mühlenbach\, Muhlenbach\, Luxembourg\, Cant
 on Luxembourg\, 2241\, Luxembourg (49.632610\, 6.114042\, 13)
SUMMARY:Wednesday evening running
URL:https://orienteering.lu/en/calendar/events/wednesday-evening-running-22
 -11-2017/
END:VEVENT
END:VCALENDAR
