BEGIN:VCALENDAR
VERSION:2.0
PRODID:-//orienteering.lu//NONSGML kigkonsult.se iCalcreator 2.10.5//
METHOD:PUBLISH
X-WR-CALDESC:<p>Sprint race in the Metz university campus.</p>\n\n<p>Length
 : 2km\, 4km or 6km.</p>\n\n<p>Map scale: 1/5000°</p>\n\n<p>Fees: 4€</p>
 <p>Registration preferably before Friday 15th to robert.loge(at)gmail.com<
 /p>
X-WR-TIMEZONE:Europe/Luxembourg
BEGIN:VEVENT
UID:20180701T084301CEST-74244jKRkD@orienteering.lu
DTSTAMP:20180701T060701Z
CREATED:20171210T211548Z
DESCRIPTION:Sprint race in the Metz university campus.\n\nLength: 2km\, 4km
  or 6km.\n\nMap scale: 1/5000°\n\nFees: 4€\n\nRegistration preferably befo
 re Friday 15th to robert.loge(at)gmail.com
DTSTART:20171217T093000
DTEND:20171217T130000
LAST-MODIFIED:20171210T212257Z
LOCATION:Boulevard Solidarité\, Metz-Technopôle\, Borny\, Metz\, Moselle\, 
 Grand-Est\, France métropolitaine\, 57070\, France (49.107040\, 6.221416\,
  15)
SUMMARY:Sprint orienteering race in Metz
URL:https://orienteering.lu/en/calendar/events/sprint-orienteering-race-in-
 metz/
END:VEVENT
END:VCALENDAR
