BEGIN:VCALENDAR
VERSION:2.0
PRODID:-//orienteering.lu//NONSGML kigkonsult.se iCalcreator 2.10.5//
METHOD:PUBLISH
X-WR-CALDESC:<p>This time with an <strong>onion soup and a glass of glühwei
 n</strong>\, same place\, same time as usually.</p>\n\n<p>Let's meet every
  Wednesday in Bambësch and have a run together. We will run easy and if ne
 eded can do several groups\, depending on the speed. We might do some runn
 ing exercises together as well\, depending on the mood.</p>\n\n<p>Please b
 ring a lamp. It is dark pretty soon.</p>
X-WR-TIMEZONE:Europe/Luxembourg
BEGIN:VEVENT
UID:20180701T084249CEST-5867uAlRTd@orienteering.lu
DTSTAMP:20180701T060749Z
CREATED:20180106T134038Z
DESCRIPTION:This time with an onion soup and a glass of glühwein\, same pla
 ce\, same time as usually.\n\nLet's meet every Wednesday in Bambësch and h
 ave a run together. We will run easy and if needed can do several groups\,
  depending on the speed. We might do some running exercises together as we
 ll\, depending on the mood.\n\nPlease bring a lamp. It is dark pretty soon
 .
DTSTART:20180110T190000
DTEND:20180110T200000
LAST-MODIFIED:20180110T114123Z
LOCATION:Allée des Présidents\, Mühlenbach\, Muhlenbach\, Luxembourg\, Cant
 on Luxembourg\, 2241\, Luxembourg (49.632610\, 6.114042\, 13)
SUMMARY:Wednesday evening running + glühwein
URL:https://orienteering.lu/en/calendar/events/wednesday-evening-running-10
 -01-2018/
END:VEVENT
END:VCALENDAR
