BEGIN:VCALENDAR
VERSION:2.0
PRODID:-//orienteering.lu//NONSGML kigkonsult.se iCalcreator 2.10.5//
METHOD:PUBLISH
X-WR-CALDESC:<p>Let's meet every Wednesday in Bambësch and have a run toget
 her. We will run easy and if needed can do several groups\, depending on t
 he speed. We might do some running exercises together as well\, depending 
 on the mood.</p>\n\n<p>Please bring a lamp. It is dark pretty soon.</p>
X-WR-TIMEZONE:Europe/Luxembourg
BEGIN:VEVENT
UID:20180701T084150CEST-25760kfNn2@orienteering.lu
DTSTAMP:20180701T060750Z
CREATED:20180111T095850Z
DESCRIPTION:Let's meet every Wednesday in Bambësch and have a run together.
  We will run easy and if needed can do several groups\, depending on the s
 peed. We might do some running exercises together as well\, depending on t
 he mood.\n\nPlease bring a lamp. It is dark pretty soon.
DTSTART:20180207T190000
DTEND:20180207T200000
LAST-MODIFIED:20180204T223604Z
LOCATION:Allée des Présidents\, Mühlenbach\, Muhlenbach\, Luxembourg\, Cant
 on Luxembourg\, 2241\, Luxembourg (49.632610\, 6.114042\, 13)
SUMMARY:Wednesday evening running
URL:https://orienteering.lu/en/calendar/events/wednesday-evening-running-07
 -02-2018/
END:VEVENT
END:VCALENDAR
