BEGIN:VCALENDAR
VERSION:2.0
PRODID:-//orienteering.lu//NONSGML kigkonsult.se iCalcreator 2.10.5//
METHOD:PUBLISH
X-WR-CALDESC:
X-WR-TIMEZONE:Europe/Luxembourg
BEGIN:VEVENT
UID:20180701T083646CEST-4327uwJpxR@orienteering.lu
DTSTAMP:20180701T060746Z
CREATED:20180113T193034Z
DESCRIPTION:
DTSTART;VALUE=DATE:20180519
DTEND;VALUE=DATE:20180521
LAST-MODIFIED:20180517T165006Z
LOCATION:Bouillon\, Neufchâteau\, Luxembourg\, Wallonia\, Belgie (49.794983
 \, 5.067253\, 9)
SUMMARY:3 days of Belgium 2018
URL:https://orienteering.lu/en/calendar/events/3-days-of-belgium-2018/
END:VEVENT
END:VCALENDAR
