BEGIN:VCALENDAR
VERSION:2.0
PRODID:-//orienteering.lu//NONSGML kigkonsult.se iCalcreator 2.10.5//
METHOD:PUBLISH
X-WR-CALDESC:<p>On Saturday there will be a sprint prologue in Trier follow
 ed by a middle distance. On Sunday\, two sprints will be held on the Kirch
 berg plateau in Luxembourg city. The Sunday sprints will be part of the <a
  href='http://www.parktour.de/'>Deutsche Park Tour 2018</a>.</p>
X-WR-TIMEZONE:Europe/Luxembourg
BEGIN:VEVENT
UID:20180701T083522CEST-2112jl2p47@orienteering.lu
DTSTAMP:20180701T060722Z
CREATED:20180117T211142Z
DESCRIPTION:On Saturday there will be a sprint prologue in Trier followed b
 y a middle distance. On Sunday\, two sprints will be held on the Kirchberg
  plateau in Luxembourg city. The Sunday sprints will be part of the Deutsc
 he Park Tour 2018.
DTSTART;VALUE=DATE:20181020
DTEND:20181021T235900
LAST-MODIFIED:20180131T152235Z
LOCATION:Parc Central\, Kirchberg\, Lucemburk\, Canton Luxembourg\, 2525\, 
 Lucembursko (49.624306\, 6.156077\, 12)
SUMMARY:German-Luxembourgish orienteering week-end
URL:https://orienteering.lu/en/calendar/events/german-luxembourgish-oriente
 ering-weekend-2018/
END:VEVENT
END:VCALENDAR
