BEGIN:VCALENDAR
VERSION:2.0
PRODID:-//orienteering.lu//NONSGML kigkonsult.se iCalcreator 2.10.5//
METHOD:PUBLISH
X-WR-CALDESC:
X-WR-TIMEZONE:Europe/Luxembourg
BEGIN:VEVENT
UID:20180701T084203CEST-7238HAsCWI@orienteering.lu
DTSTAMP:20180701T060703Z
CREATED:20180121T153711Z
DESCRIPTION:
DTSTART;VALUE=DATE:20180203
LAST-MODIFIED:20180121T155236Z
LOCATION:ancienne piste de karting\, Ciney\, Dinant\, Namur\, Wallonie\, 55
 90\, Belgique (50.222553\, 5.142202\, 14)
SUMMARY:Sprint orienteering in Chevetogne
URL:https://orienteering.lu/en/calendar/events/champ-frso-sprint-in-cheveto
 gne/
END:VEVENT
END:VCALENDAR
