BEGIN:VCALENDAR
VERSION:2.0
PRODID:-//orienteering.lu//NONSGML kigkonsult.se iCalcreator 2.10.5//
METHOD:PUBLISH
X-WR-CALDESC:
X-WR-TIMEZONE:Europe/Luxembourg
BEGIN:VEVENT
UID:20180701T084209CEST-8178T1bOip@orienteering.lu
DTSTAMP:20180701T060709Z
CREATED:20180121T153918Z
DESCRIPTION:
DTSTART;VALUE=DATE:20180203
LAST-MODIFIED:20180121T155324Z
LOCATION:ancienne piste de karting\, Ciney\, Dinant\, Namur\, Wallonie\, 55
 90\, Belgique (50.222717\, 5.142460\, 13)
SUMMARY:Night orienteering in Chevetogne
URL:https://orienteering.lu/en/calendar/events/champ-frso-night-in-chevetog
 ne/
END:VEVENT
END:VCALENDAR
