BEGIN:VCALENDAR
VERSION:2.0
PRODID:-//orienteering.lu//NONSGML kigkonsult.se iCalcreator 2.10.5//
METHOD:PUBLISH
X-WR-CALDESC:
X-WR-TIMEZONE:Europe/Luxembourg
BEGIN:VEVENT
UID:20180701T084158CEST-2207gA1BDS@orienteering.lu
DTSTAMP:20180701T060758Z
CREATED:20180121T155417Z
DESCRIPTION:
DTSTART;VALUE=DATE:20180204
LAST-MODIFIED:20180121T155508Z
LOCATION:ancienne piste de karting\, Ciney\, Dinant\, Namur\, Wallonie\, 55
 90\, Belgique (50.222363\, 5.142159\, 14)
SUMMARY:Regional orienteering race in Chevetogne
URL:https://orienteering.lu/en/calendar/events/regional-orienteering-race-i
 n-chevetogne/
END:VEVENT
END:VCALENDAR
