BEGIN:VCALENDAR
VERSION:2.0
PRODID:-//orienteering.lu//NONSGML kigkonsult.se iCalcreator 2.10.5//
METHOD:PUBLISH
X-WR-CALDESC:
X-WR-TIMEZONE:Europe/Luxembourg
BEGIN:VEVENT
UID:20180701T084136CEST-7084xOCThu@orienteering.lu
DTSTAMP:20180701T060736Z
CREATED:20180121T155658Z
DESCRIPTION:
DTSTART;VALUE=DATE:20180218
LAST-MODIFIED:20180121T155810Z
LOCATION:Durbuy\, Marche-en-Famenne\, Luxembourg\, Wallonie\, Belgique (50.
 377216\, 5.406647\, 12)
SUMMARY:Regional race in Borlon
URL:https://orienteering.lu/en/calendar/events/regional-race-in-borlon/
END:VEVENT
END:VCALENDAR
