BEGIN:VCALENDAR
VERSION:2.0
PRODID:-//orienteering.lu//NONSGML kigkonsult.se iCalcreator 2.10.5//
METHOD:PUBLISH
X-WR-CALDESC:<p>Several races during the week-end.</p>
X-WR-TIMEZONE:Europe/Luxembourg
BEGIN:VEVENT
UID:20180701T084057CEST-0098HZdHTR@orienteering.lu
DTSTAMP:20180701T060757Z
CREATED:20180121T155942Z
DESCRIPTION:Several races during the week-end.
DTSTART;VALUE=DATE:20180303
DTEND;VALUE=DATE:20180304
LAST-MODIFIED:20180121T160410Z
LOCATION:Les Six Chênons\, Thilay\, Charleville-Mézières\, Ardennes\, Grand
  Est\, France métropolitaine\, 08800\, France (49.883354\, 4.742661\, 12)
SUMMARY:Orienteering week-end\, lac des vieilles forges
URL:https://orienteering.lu/en/calendar/events/orienteering-week-end-lac-de
 s-vieilles-forges/
END:VEVENT
END:VCALENDAR
