BEGIN:VCALENDAR
VERSION:2.0
PRODID:-//orienteering.lu//NONSGML kigkonsult.se iCalcreator 2.10.5//
METHOD:PUBLISH
X-WR-CALDESC:<p>This is the belgian FRSO championship.</p>
X-WR-TIMEZONE:Europe/Luxembourg
BEGIN:VEVENT
UID:20180701T083955CEST-5037uIJrCU@orienteering.lu
DTSTAMP:20180701T060755Z
CREATED:20180121T160601Z
DESCRIPTION:This is the belgian FRSO championship.
DTSTART;VALUE=DATE:20180317
LAST-MODIFIED:20180121T160716Z
LOCATION:Andlermühle\, Bullange\, Verviers\, Liège\, Wallonie\, 4782\, Belg
 ique (50.288681\, 6.264095\, 13)
SUMMARY:Night orienteering race\, in Schönberg
URL:https://orienteering.lu/en/calendar/events/night-orienteering-race-in-s
 chonberg/
END:VEVENT
END:VCALENDAR
