BEGIN:VCALENDAR
VERSION:2.0
PRODID:-//orienteering.lu//NONSGML kigkonsult.se iCalcreator 2.10.5//
METHOD:PUBLISH
X-WR-CALDESC:
X-WR-TIMEZONE:Europe/Luxembourg
BEGIN:VEVENT
UID:20180701T084001CEST-9652Eus4Uw@orienteering.lu
DTSTAMP:20180701T060701Z
CREATED:20180121T160812Z
DESCRIPTION:
DTSTART;VALUE=DATE:20180317
LAST-MODIFIED:20180121T160916Z
LOCATION:ancienne piste de karting\, Ciney\, Dinant\, Namur\, Wallonie\, 55
 90\, Belgique (50.222141\, 5.142245\, 14)
SUMMARY:Orienteering challenge\, in Chevetogne
URL:https://orienteering.lu/en/calendar/events/orienteering-challenge-in-ch
 evetogne/
END:VEVENT
END:VCALENDAR
