BEGIN:VCALENDAR
VERSION:2.0
PRODID:-//orienteering.lu//NONSGML kigkonsult.se iCalcreator 2.10.5//
METHOD:PUBLISH
X-WR-CALDESC:
X-WR-TIMEZONE:Europe/Luxembourg
BEGIN:VEVENT
UID:20180701T083950CEST-1772tcG6SZ@orienteering.lu
DTSTAMP:20180701T060750Z
CREATED:20180121T161033Z
DESCRIPTION:
DTSTART;VALUE=DATE:20180318
LAST-MODIFIED:20180313T104835Z
LOCATION:Andlermühle\, Bullange\, Verviers\, Liège\, Wallonie\, 4782\, Belg
 ique (50.289833\, 6.264868\, 11)
SUMMARY:Orienteering race in Hahnenberg (Schönberg)
URL:https://orienteering.lu/en/calendar/events/orienteering-race-in-hahnenb
 erg/
END:VEVENT
END:VCALENDAR
