BEGIN:VCALENDAR
VERSION:2.0
PRODID:-//orienteering.lu//NONSGML kigkonsult.se iCalcreator 2.10.5//
METHOD:PUBLISH
X-WR-CALDESC:
X-WR-TIMEZONE:Europe/Luxembourg
BEGIN:VEVENT
UID:20180701T083937CEST-1613ig5DJo@orienteering.lu
DTSTAMP:20180701T060737Z
CREATED:20180121T161824Z
DESCRIPTION:
DTSTART;VALUE=DATE:20180324
LAST-MODIFIED:20180121T161933Z
LOCATION:Chiny\, Virton\, Luxembourg\, Wallonie\, 6810\, Belgique (49.75798
 0\, 5.364075\, 12)
SUMMARY:Orienteering challenge\, in Chiny-Suxy
URL:https://orienteering.lu/en/calendar/events/orienteering-challenge-in-su
 xy/
END:VEVENT
END:VCALENDAR
