BEGIN:VCALENDAR
VERSION:2.0
PRODID:-//orienteering.lu//NONSGML kigkonsult.se iCalcreator 2.10.5//
METHOD:PUBLISH
X-WR-CALDESC:<p>3 races organised over 3 days. See:</p>\n\n<ul><li>http://f
 rso.be/course.php?id=2121</li>\n	<li>http://frso.be/course.php?id=2122</li
 >\n	<li>http://frso.be/course.php?id=2123</li>\n</ul>
X-WR-TIMEZONE:Europe/Luxembourg
BEGIN:VEVENT
UID:20180701T083858CEST-86087rvGU6@orienteering.lu
DTSTAMP:20180701T060758Z
CREATED:20180121T162125Z
DESCRIPTION:3 races organised over 3 days. See:\n\nhttp://frso.be/course.ph
 p?id=2121\n	http://frso.be/course.php?id=2122\n	http://frso.be/course.php?
 id=2123
DTSTART;VALUE=DATE:20180407
DTEND;VALUE=DATE:20180409
LAST-MODIFIED:20180121T162440Z
LOCATION:Herbeumont\, Neufchâteau\, Luxembourg\, Wallonie\, 6887\, Belgique
  (49.790573\, 5.273438\, 11)
SUMMARY:Camp O Ardenne
URL:https://orienteering.lu/en/calendar/events/camp-o-ardenne/
END:VEVENT
END:VCALENDAR
