BEGIN:VCALENDAR
VERSION:2.0
PRODID:-//orienteering.lu//NONSGML kigkonsult.se iCalcreator 2.10.5//
METHOD:PUBLISH
X-WR-CALDESC:<p>Ultra-long distance orienteering race.</p>
X-WR-TIMEZONE:Europe/Luxembourg
BEGIN:VEVENT
UID:20180701T083830CEST-5927vnSWbb@orienteering.lu
DTSTAMP:20180701T060730Z
CREATED:20180121T162703Z
DESCRIPTION:Ultra-long distance orienteering race.
DTSTART:20180414T050000
DTEND:20180414T120000
LAST-MODIFIED:20180131T222704Z
LOCATION:Chiny\, Virton\, Luxembourg\, Wallonie\, 6810\, Belgique (49.73735
 0\, 5.340042\, 11)
SUMMARY:Hermarathon 2nd edition
URL:https://orienteering.lu/en/calendar/events/hermarathon-2nd-edition/
END:VEVENT
END:VCALENDAR
