BEGIN:VCALENDAR
VERSION:2.0
PRODID:-//orienteering.lu//NONSGML kigkonsult.se iCalcreator 2.10.5//
METHOD:PUBLISH
X-WR-CALDESC:<p>or <a href='http://ardoc.be/Kalender/20180415_FRSOMiddle.pd
 f'>http://ardoc.be/Kalender/20180415_FRSOMiddle.pdf</a></p>
X-WR-TIMEZONE:Europe/Luxembourg
BEGIN:VEVENT
UID:20180701T083815CEST-2308ovvEjz@orienteering.lu
DTSTAMP:20180701T060715Z
CREATED:20180121T162923Z
DESCRIPTION:or http://ardoc.be/Kalender/20180415_FRSOMiddle.pdf
DTSTART;VALUE=DATE:20180415
LAST-MODIFIED:20180326T090724Z
LOCATION:Maria Goretti Institut\, 6\, Prümer Straße\, St. Vith\, Verviers\,
  Lutych\, Wallonia\, 4780\, Belgium (50.278240\, 6.130679\, 14)
SUMMARY:Middle distance orienteering race\, in Grüflinger Hart
URL:https://orienteering.lu/en/calendar/events/middle-distance-orienteering
 -race-in-gruflinger-hart/
END:VEVENT
END:VCALENDAR
