BEGIN:VCALENDAR
VERSION:2.0
PRODID:-//orienteering.lu//NONSGML kigkonsult.se iCalcreator 2.10.5//
METHOD:PUBLISH
X-WR-CALDESC:
X-WR-TIMEZONE:Europe/Luxembourg
BEGIN:VEVENT
UID:20180701T083719CEST-05605VFcWi@orienteering.lu
DTSTAMP:20180701T060719Z
CREATED:20180121T163240Z
DESCRIPTION:
DTSTART;VALUE=DATE:20180505
LAST-MODIFIED:20180121T163420Z
LOCATION:Gedinne\, Dinant\, Namur\, Wallonie\, 5575\, Belgique (49.979931\,
  4.936981\, 12)
SUMMARY:Orienteering challenge\, in Gedinne
URL:https://orienteering.lu/en/calendar/events/orienteering-challenge-in-ge
 dinne/
END:VEVENT
END:VCALENDAR
