BEGIN:VCALENDAR
VERSION:2.0
PRODID:-//orienteering.lu//NONSGML kigkonsult.se iCalcreator 2.10.5//
METHOD:PUBLISH
X-WR-CALDESC:<p>Location to be confirmed.</p>
X-WR-TIMEZONE:Europe/Luxembourg
BEGIN:VEVENT
UID:20180701T083046CEST-6919oE9hrU@orienteering.lu
DTSTAMP:20180701T060746Z
CREATED:20180121T163924Z
DESCRIPTION:Location to be confirmed.
DTSTART;VALUE=DATE:20180707
DTEND;VALUE=DATE:20180708
LAST-MODIFIED:20180121T164328Z
LOCATION:Namur\, Wallonie\, Belgique (49.984787\, 4.869690\, 9)
SUMMARY:Transforestière 2018
URL:https://orienteering.lu/en/calendar/events/transforestiere-2018/
END:VEVENT
END:VCALENDAR
