BEGIN:VCALENDAR
VERSION:2.0
PRODID:-//orienteering.lu//NONSGML kigkonsult.se iCalcreator 2.10.5//
METHOD:PUBLISH
X-WR-CALDESC:<p>See also: http://www.ffcorientation.fr/media/invitations/an
 nonce_D1-_28_JANVIER_84aXEAV.pdf</p>
X-WR-TIMEZONE:Europe/Luxembourg
BEGIN:VEVENT
UID:20180701T084215CEST-8548oIT1xJ@orienteering.lu
DTSTAMP:20180701T060715Z
CREATED:20180121T170052Z
DESCRIPTION:See also: http://www.ffcorientation.fr/media/invitations/annonc
 e_D1-_28_JANVIER_84aXEAV.pdf
DTSTART;VALUE=DATE:20180128
LAST-MODIFIED:20180121T170416Z
LOCATION:Clairlieu\, Villers-lès-Nancy\, Nancy\, Meurthe-et-Moselle\, Grand
  Est\, France métropolitaine\, 54600\, France (48.681808\, 6.139255\, 14)
SUMMARY:Long distance race\, in Laxou
URL:https://orienteering.lu/en/calendar/events/long-distance-race-in-laxou/
END:VEVENT
END:VCALENDAR
