BEGIN:VCALENDAR
VERSION:2.0
PRODID:-//orienteering.lu//NONSGML kigkonsult.se iCalcreator 2.10.5//
METHOD:PUBLISH
X-WR-CALDESC:
X-WR-TIMEZONE:Europe/Luxembourg
BEGIN:VEVENT
UID:20180701T083824CEST-64581Vh6W2@orienteering.lu
DTSTAMP:20180701T060724Z
CREATED:20180121T170724Z
DESCRIPTION:
DTSTART;VALUE=DATE:20180415
LAST-MODIFIED:20180121T170829Z
LOCATION:Leovillers\, Varize-Vaudoncourt\, Forbach-Boulay-Moselle\, Moselle
 \, Grand Est\, France métropolitaine\, 57220\, France (49.108940\, 6.40365
 6\, 12)
SUMMARY:Long distance race\, in Courcelles-Chaussy
URL:https://orienteering.lu/en/calendar/events/long-distance-race-in-cource
 lles-chaussy/
END:VEVENT
END:VCALENDAR
