BEGIN:VCALENDAR
VERSION:2.0
PRODID:-//orienteering.lu//NONSGML kigkonsult.se iCalcreator 2.10.5//
METHOD:PUBLISH
X-WR-CALDESC:
X-WR-TIMEZONE:Europe/Luxembourg
BEGIN:VEVENT
UID:20180701T084118CEST-4261RKcmLh@orienteering.lu
DTSTAMP:20180701T060718Z
CREATED:20180121T194351Z
DESCRIPTION:
DTSTART;VALUE=DATE:20180224
LAST-MODIFIED:20180121T194559Z
LOCATION:Höchen\, Bexbach\, Saarpfalz-Kreis\, Sarre\, 66450\, Allemagne (49
 .364712\, 7.263680\, 11)
SUMMARY:Orienteering race in Oberbexbach
URL:https://orienteering.lu/en/calendar/events/orienteering-race-in-oberbex
 bach/
END:VEVENT
END:VCALENDAR
