BEGIN:VCALENDAR
VERSION:2.0
PRODID:-//orienteering.lu//NONSGML kigkonsult.se iCalcreator 2.10.5//
METHOD:PUBLISH
X-WR-CALDESC:
X-WR-TIMEZONE:Europe/Luxembourg
BEGIN:VEVENT
UID:20180701T084143CEST-2377VrNSaJ@orienteering.lu
DTSTAMP:20180701T060743Z
CREATED:20180121T195910Z
DESCRIPTION:
DTSTART;VALUE=DATE:20180218
LAST-MODIFIED:20180121T200101Z
LOCATION:Clairlieu\, Villers-lès-Nancy\, Nancy\, Meurthe-et-Moselle\, Grand
  Est\, France métropolitaine\, 54600\, France (48.658371\, 6.114922\, 11)
SUMMARY:Orienteering race in Nancy-Clairlieu
URL:https://orienteering.lu/en/calendar/events/orienteering-race-in-nancy-c
 lairlieu-laxou/
END:VEVENT
END:VCALENDAR
