BEGIN:VCALENDAR
VERSION:2.0
PRODID:-//orienteering.lu//NONSGML kigkonsult.se iCalcreator 2.10.5//
METHOD:PUBLISH
X-WR-CALDESC:<p>3 days\, 3 races around Dijon and the villages of Couchey a
 nd Flavignerot.</p>
X-WR-TIMEZONE:Europe/Luxembourg
BEGIN:VEVENT
UID:20180701T083911CEST-6574uIvz7F@orienteering.lu
DTSTAMP:20180701T060711Z
CREATED:20180121T200155Z
DESCRIPTION:3 days\, 3 races around Dijon and the villages of Couchey and F
 lavignerot.
DTSTART;VALUE=DATE:20180331
DTEND;VALUE=DATE:20180402
LAST-MODIFIED:20180121T200555Z
LOCATION:Rente Neuve\, Flavignerot\, Dijon\, Côte-d'Or\, Bourgogne-Franche-
 Comté\, France métropolitaine\, 21160\, France (47.295300\, 4.946079\, 13)
SUMMARY:3 days of Burgundy
URL:https://orienteering.lu/en/calendar/events/3-days-of-burgundy/
END:VEVENT
END:VCALENDAR
