BEGIN:VCALENDAR
VERSION:2.0
PRODID:-//orienteering.lu//NONSGML kigkonsult.se iCalcreator 2.10.5//
METHOD:PUBLISH
X-WR-CALDESC:<p>Information from Sven:</p>\n\n<blockquote>\n<p>We are organ
 izing '26th International Open City Masters Trier' at that date. Therefore
  the known map 'Tarforst-Filsch' is completely updated and new-mapped geo-
 referenced by new ISOM2017-mapping-norm.</p>\n\n<p>You will find the annou
 ncement at <a href='https://gymnasion-offenbach.de/ol/2018/03/06/triersm20
 18/triersm2018.html' target='_blank' rel='noreferrer noopener'>https://gym
 nasion-offenbach.de/ol/2018/03/06/triersm2018/triersm2018.html</a> - but i
 t's only available in German. Enrollments should be done by GOtoOL: <a hre
 f='http://maud.conit.com:1983/enroll/55/single' target='_blank' rel='noref
 errer noopener'>http://maud.conit.com:1983/enroll/55/single</a> or alterna
 tive by e-mail at <a href='mailto:o-lauf@gymnasion-offenbach.de' target='_
 blank' rel='noreferrer noopener'>o-lauf@gymnasion-offenbach.de</a>.</p>
 <p>The 'Offen kurz'-category will be so the same course as D-10/H-10 so it
  will be following ways and pathes or orienteeing lines like gullys or gra
 ssland borders. So it will be easily to walk or run and only about 2 km ru
 nning-distance. The 'Offen lang' will be probably at the D11-14/H11-14 and
  a bit more difficult and longer (~3 km).</p>\n\n<p>It would be nice to kn
 ow in advance the approximate number of starters but in that open categori
 es we will have more vacanties than at the masters-classes so it will norm
 ally be possible to enroll on the day as well.</p>\n</blockquote>
X-WR-TIMEZONE:Europe/Luxembourg
BEGIN:VEVENT
UID:20180701T083852CEST-7214vzpDr1@orienteering.lu
DTSTAMP:20180701T060752Z
CREATED:20180121T200644Z
DESCRIPTION:Information from Sven:\n\n\nWe are organizing '26th Internation
 al Open City Masters Trier' at that date. Therefore the known map 'Tarfors
 t-Filsch' is completely updated and new-mapped geo-referenced by new ISOM2
 017-mapping-norm.\n\nYou will find the announcement at https://gymnasion-o
 ffenbach.de/ol/2018/03/06/triersm2018/triersm2018.html - but it's only ava
 ilable in German. Enrollments should be done by GOtoOL: http://maud.conit.
 com:1983/enroll/55/single or alternative by e-mail at o-lauf@gymnasion-off
 enbach.de.\n\nThe 'Offen kurz'-category will be so the same course as D-10
 /H-10 so it will be following ways and pathes or orienteeing lines like gu
 llys or grassland borders. So it will be easily to walk or run and only ab
 out 2 km running-distance. The 'Offen lang' will be probably at the D11-14
 /H11-14 and a bit more difficult and longer (~3 km).\n\nIt would be nice t
 o know in advance the approximate number of starters but in that open cate
 gories we will have more vacanties than at the masters-classes so it will 
 normally be possible to enroll on the day as well.
DTSTART;VALUE=DATE:20180408
LAST-MODIFIED:20180408T010532Z
LOCATION:Kohlenstraße\, Neu-Kürenz\, Tarforst\, Trier\, Rhineland-Palatinat
 e\, 54296\, Germany (49.745060\, 6.691425\, 13)
SUMMARY:Orienteering race in Trier
URL:https://orienteering.lu/en/calendar/events/orienteering-race-in-trier/
END:VEVENT
END:VCALENDAR
