BEGIN:VCALENDAR
VERSION:2.0
PRODID:-//orienteering.lu//NONSGML kigkonsult.se iCalcreator 2.10.5//
METHOD:PUBLISH
X-WR-CALDESC:<p>Trierer Herbst-OL</p>
X-WR-TIMEZONE:Europe/Luxembourg
BEGIN:VEVENT
UID:20180701T083528CEST-9265jZAroF@orienteering.lu
DTSTAMP:20180701T060728Z
CREATED:20180121T201005Z
DESCRIPTION:Trierer Herbst-OL
DTSTART;VALUE=DATE:20181020
LAST-MODIFIED:20180121T201101Z
LOCATION:Mitte-Gartenfeld\, Trèves\, Trier\, Rhénanie-Palatinat\, Allemagne
  (49.759979\, 6.643982\, 10)
SUMMARY:Orienteering race in Trier
URL:https://orienteering.lu/en/calendar/events/orienteering-race-in-trier2/
END:VEVENT
END:VCALENDAR
