BEGIN:VCALENDAR
VERSION:2.0
PRODID:-//orienteering.lu//NONSGML kigkonsult.se iCalcreator 2.10.5//
METHOD:PUBLISH
X-WR-CALDESC:<p>1.Lauf zum SaarlandCup</p>
X-WR-TIMEZONE:Europe/Luxembourg
BEGIN:VEVENT
UID:20180701T084124CEST-6053uvSHVe@orienteering.lu
DTSTAMP:20180701T060724Z
CREATED:20180121T201347Z
DESCRIPTION:1.Lauf zum SaarlandCup
DTSTART;VALUE=DATE:20180224
LAST-MODIFIED:20180121T201452Z
LOCATION:Bexbach\, Saarpfalz-Kreis\, Sarre\, Allemagne (49.346825\, 7.25647
 0\, 11)
SUMMARY:Orienteering race in Bexbach
URL:https://orienteering.lu/en/calendar/events/orienteering-race-in-bexbach
 /
END:VEVENT
END:VCALENDAR
