BEGIN:VCALENDAR
VERSION:2.0
PRODID:-//orienteering.lu//NONSGML kigkonsult.se iCalcreator 2.10.5//
METHOD:PUBLISH
X-WR-CALDESC:
X-WR-TIMEZONE:Europe/Luxembourg
BEGIN:VEVENT
UID:20180701T083752CEST-30533OdBt1@orienteering.lu
DTSTAMP:20180701T060752Z
CREATED:20180121T201602Z
DESCRIPTION:
DTSTART;VALUE=DATE:20180421
LAST-MODIFIED:20180421T225226Z
LOCATION:Homburg\, Hombourg\, Saarpfalz-Kreis\, Sarre\, 66424\, Allemagne (
 49.319080\, 7.334061\, 11)
SUMMARY:Orienteering race in Homburg
URL:https://orienteering.lu/en/calendar/events/orienteering-race-in-homburg
 /
END:VEVENT
END:VCALENDAR
