BEGIN:VCALENDAR
VERSION:2.0
PRODID:-//orienteering.lu//NONSGML kigkonsult.se iCalcreator 2.10.5//
METHOD:PUBLISH
X-WR-CALDESC:<p>2 orienteering races in 2 days.</p>
X-WR-TIMEZONE:Europe/Luxembourg
BEGIN:VEVENT
UID:20180701T083542CEST-7715LfTVBT@orienteering.lu
DTSTAMP:20180701T060742Z
CREATED:20180121T201833Z
DESCRIPTION:2 orienteering races in 2 days.
DTSTART;VALUE=DATE:20180616
DTEND;VALUE=DATE:20180617
LAST-MODIFIED:20180121T201958Z
LOCATION:Blieskastel\, Saarpfalz-Kreis\, Sarre\, 66440\, Allemagne (49.2669
 07\, 7.246513\, 9)
SUMMARY:Orienteering races in Blieskastel and Kirkel
URL:https://orienteering.lu/en/calendar/events/orienteering-races-in-bliesk
 astel-and-kirkel/
END:VEVENT
END:VCALENDAR
