BEGIN:VCALENDAR
VERSION:2.0
PRODID:-//orienteering.lu//NONSGML kigkonsult.se iCalcreator 2.10.5//
METHOD:PUBLISH
X-WR-CALDESC:
X-WR-TIMEZONE:Europe/Luxembourg
BEGIN:VEVENT
UID:20180701T084112CEST-09933NsiiJ@orienteering.lu
DTSTAMP:20180701T060712Z
CREATED:20180121T204815Z
DESCRIPTION:
DTSTART;VALUE=DATE:20180225
LAST-MODIFIED:20180218T101025Z
LOCATION:Beuvange sous Justemont\, Vitry-sur-Orne\, Thionville\, Moselle\, 
 Grand Est\, France métropolitaine\, 57185\, France (49.248535\, 6.143761\,
  11)
SUMMARY:Orienteering race in Amnéville
URL:https://orienteering.lu/en/calendar/events/orienteering-race-in-amnevil
 le/
END:VEVENT
END:VCALENDAR
