BEGIN:VCALENDAR
VERSION:2.0
PRODID:-//orienteering.lu//NONSGML kigkonsult.se iCalcreator 2.10.5//
METHOD:PUBLISH
X-WR-CALDESC:
X-WR-TIMEZONE:Europe/Luxembourg
BEGIN:VEVENT
UID:20180701T084009CEST-0246tRKG88@orienteering.lu
DTSTAMP:20180701T060709Z
CREATED:20180121T205145Z
DESCRIPTION:
DTSTART;VALUE=DATE:20180317
DTEND;VALUE=DATE:20180318
LAST-MODIFIED:20180225T143342Z
LOCATION:Sanchey\, Épinal\, Vosges\, Grand Est\, France métropolitaine\, 88
 390\, France (48.169865\, 6.363487\, 10)
SUMMARY:Orienteering races in Sanchey
URL:https://orienteering.lu/en/calendar/events/orienteering-race-in-sanchey
 /
END:VEVENT
END:VCALENDAR
