BEGIN:VCALENDAR
VERSION:2.0
PRODID:-//orienteering.lu//NONSGML kigkonsult.se iCalcreator 2.10.5//
METHOD:PUBLISH
X-WR-CALDESC:
X-WR-TIMEZONE:Europe/Luxembourg
BEGIN:VEVENT
UID:20180701T084024CEST-8017fwvFOc@orienteering.lu
DTSTAMP:20180701T060724Z
CREATED:20180121T205717Z
DESCRIPTION:
DTSTART;VALUE=DATE:20180311
LAST-MODIFIED:20180121T205809Z
LOCATION:Ferme de Beaupré\, Moncel-lès-Lunéville\, Lunéville\, Meurthe-et-M
 oselle\, Grand Est\, France métropolitaine\, 54300\, France (48.587963\, 6
 .496696\, 9)
SUMMARY:Orienteering race in Luneville
URL:https://orienteering.lu/en/calendar/events/orienteering-race-in-lunevil
 le/
END:VEVENT
END:VCALENDAR
