BEGIN:VCALENDAR
VERSION:2.0
PRODID:-//orienteering.lu//NONSGML kigkonsult.se iCalcreator 2.10.5//
METHOD:PUBLISH
X-WR-CALDESC:<p><strong>Where</strong>: The Meeting point is along road N11
  after Graulinster\, on the rest area with the viewpoint.</p>\n\n<p><stron
 g>When</strong>: The meeting is at 9:15. Mass start around 9:30 !</p>\n\n<
 p><strong>What</strong>: One single course\, around 6km\, on a technical t
 errain. No flag will be present on the terrain!!! All participants start a
 t the same time\, and the first runner to reach the first point stays on t
 he spot and becomes a 'human flag': He waits all other runners until the l
 ast one\, waits 30''\, and then continues his race. The same applies to al
 l points: The fisrt runner to find a point becomes the flag for this point
 \, and waits all other runners + 30'' before continuing.</p>
X-WR-TIMEZONE:Europe/Luxembourg
BEGIN:VEVENT
UID:20180701T083931CEST-1258Acl7Kb@orienteering.lu
DTSTAMP:20180701T060731Z
CREATED:20180311T205936Z
DESCRIPTION:Where: The Meeting point is along road N11 after Graulinster\, 
 on the rest area with the viewpoint.\n\nWhen: The meeting is at 9:15. Mass
  start around 9:30 !\n\nWhat: One single course\, around 6km\, on a techni
 cal terrain. No flag will be present on the terrain!!! All participants st
 art at the same time\, and the first runner to reach the first point stays
  on the spot and becomes a 'human flag': He waits all other runners until 
 the last one\, waits 30''\, and then continues his race. The same applies 
 to all points: The fisrt runner to find a point becomes the flag for this 
 point\, and waits all other runners + 30'' before continuing.
DTSTART:20180325T091500
DTEND;VALUE=DATE:20180325
LAST-MODIFIED:20180311T214450Z
LOCATION:N 11\, Bech\, Canton Echternach\, 6246\, Luxembourg (49.745033\, 6
 .302805\, 15)
SUMMARY:LuxOC 'human flag' training in Graulinster
URL:https://orienteering.lu/en/calendar/events/luxoc-human-flag-training-in
 -graulinster/
END:VEVENT
END:VCALENDAR
