BEGIN:VCALENDAR
VERSION:2.0
PRODID:-//orienteering.lu//NONSGML kigkonsult.se iCalcreator 2.10.5//
METHOD:PUBLISH
X-WR-CALDESC:
X-WR-TIMEZONE:Europe/Luxembourg
BEGIN:VEVENT
UID:20180701T083535CEST-63846PHveI@orienteering.lu
DTSTAMP:20180701T060735Z
CREATED:20180313T233354Z
DESCRIPTION:
DTSTART;VALUE=DATE:20181026
DTEND:20181028T230000
LAST-MODIFIED:20180313T233646Z
LOCATION: (0.000000\, 0.000000\, 11)
SUMMARY:2 days of north-west Veluwe 2018
URL:https://orienteering.lu/en/calendar/events/2-days-of-north-west-veluwe-
 2018/
END:VEVENT
END:VCALENDAR
