BEGIN:VCALENDAR
VERSION:2.0
PRODID:-//orienteering.lu//NONSGML kigkonsult.se iCalcreator 2.10.5//
METHOD:PUBLISH
X-WR-CALDESC:<p>2 days\, 2 sprint races\, in Westhofen (saturday) and Mainz
  (sunday)</p>
X-WR-TIMEZONE:Europe/Luxembourg
BEGIN:VEVENT
UID:20180701T083836CEST-0809aGsUja@orienteering.lu
DTSTAMP:20180701T060736Z
CREATED:20180317T213257Z
DESCRIPTION:2 days\, 2 sprint races\, in Westhofen (saturday) and Mainz (su
 nday)
DTSTART;VALUE=DATE:20180414
DTEND;VALUE=DATE:20180415
LAST-MODIFIED:20180412T113722Z
LOCATION:Altstadt\, Mayence\, Rhénanie-Palatinat\, 55116\, Allemagne (50.00
 1560\, 8.266525\, 9)
SUMMARY:Rhein-Main-Sprint Week-end 2018
URL:https://orienteering.lu/en/calendar/events/rhein-main-sprint-week-end-2
 018/
END:VEVENT
END:VCALENDAR
