BEGIN:VCALENDAR
VERSION:2.0
PRODID:-//orienteering.lu//NONSGML kigkonsult.se iCalcreator 2.10.5//
METHOD:PUBLISH
X-WR-CALDESC:<p>Let's meet every Wednesday in Bambësch and have a run toget
 her. We will run easy and if needed can do several groups\, depending on t
 he speed. We might do some running exercises together as well\, depending 
 on the mood.</p>\n\n<p>Beer and sandwiches (...well at least beer) served 
 after the run\, (about 20:00).</p>
X-WR-TIMEZONE:Europe/Luxembourg
BEGIN:VEVENT
UID:20180701T083741CEST-22429tsNfC@orienteering.lu
DTSTAMP:20180701T060741Z
CREATED:20180330T230706Z
DESCRIPTION:Let's meet every Wednesday in Bambësch and have a run together.
  We will run easy and if needed can do several groups\, depending on the s
 peed. We might do some running exercises together as well\, depending on t
 he mood.\n\nBeer and sandwiches (...well at least beer) served after the r
 un\, (about 20:00).
DTSTART:20180425T190000
DTEND:20180425T200000
LAST-MODIFIED:20180425T163631Z
LOCATION:Allée des Présidents\, Mühlenbach\, Muhlenbach\, Luxembourg\, Cant
 on Luxembourg\, 2241\, Luxembourg (49.632610\, 6.114042\, 13)
SUMMARY:Wednesday evening running with beer and sandwiches (...well at leas
 t beer)
URL:https://orienteering.lu/en/calendar/events/wednesday-evening-running-20
 18-04-25/
END:VEVENT
END:VCALENDAR
