BEGIN:VCALENDAR
VERSION:2.0
PRODID:-//orienteering.lu//NONSGML kigkonsult.se iCalcreator 2.10.5//
METHOD:PUBLISH
X-WR-CALDESC:<p>Sunny training for all ages - easy\, medium and difficult c
 ourses for big and small\, plus a microsprint for those who want more adve
 nture. Experienced kids can go alone\, beginners can go with their parents
 .</p>\n\n<p>Meeting point: The Coque\, main playground in the central park
 .</p>\n\n<p>Feel free to share this information with your friends but plea
 se let us know how many of you are coming so that we can prepare enough ma
 ps.</p>\n\n<p>Gabi and Orsi</p>
X-WR-TIMEZONE:Europe/Luxembourg
BEGIN:VEVENT
UID:20180701T083807CEST-6760hvkhz7@orienteering.lu
DTSTAMP:20180701T060707Z
CREATED:20180403T161232Z
DESCRIPTION:Sunny training for all ages - easy\, medium and difficult cours
 es for big and small\, plus a microsprint for those who want more adventur
 e. Experienced kids can go alone\, beginners can go with their parents.
 Meeting point: The Coque\, main playground in the central park.\n\nFeel fr
 ee to share this information with your friends but please let us know how 
 many of you are coming so that we can prepare enough maps.\n\nGabi and Ors
 i
DTSTART:20180415T103000
DTEND:20180415T123000
LAST-MODIFIED:20180413T071729Z
LOCATION:Parc Central\, Kirchberg\, Luxembourg\, Canton Luxembourg\, 2525\,
  Luxembourg (49.625141\, 6.155949\, 13)
SUMMARY:LuxOC training - Coque
URL:https://orienteering.lu/en/calendar/events/luxoc-training-coque/
END:VEVENT
END:VCALENDAR
