BEGIN:VCALENDAR
VERSION:2.0
PRODID:-//orienteering.lu//NONSGML kigkonsult.se iCalcreator 2.10.5//
METHOD:PUBLISH
X-WR-CALDESC:<p>Normal orienteering\, easy and challenging courses for chil
 dren and other interested people\, explanations for beginners. Meeting poi
 nt at the basketball field 50m north of the playground. Please bring your 
 own compass\, long trousers recommended. Please apply until Saturday 28th 
 via email\, but if you decide at the last moment to come you are also welc
 ome.</p>\n\n<p>Elisabet\, web199p2@lemmel.at</p>
X-WR-TIMEZONE:Europe/Luxembourg
BEGIN:VEVENT
UID:20180701T083732CEST-6965KuChcj@orienteering.lu
DTSTAMP:20180701T060732Z
CREATED:20180403T162933Z
DESCRIPTION:Normal orienteering\, easy and challenging courses for children
  and other interested people\, explanations for beginners. Meeting point a
 t the basketball field 50m north of the playground. Please bring your own 
 compass\, long trousers recommended. Please apply until Saturday 28th via 
 email\, but if you decide at the last moment to come you are also welcome.
 \nElisabet\, web199p2@lemmel.at
DTSTART:20180429T100000
DTEND:20180429T120000
LAST-MODIFIED:20180412T234434Z
LOCATION:Allée des Présidents\, Mühlenbach\, Muhlenbach\, Luxembourg\, Cant
 on Luxembourg\, 2241\, Luxembourg (49.632660\, 6.114643\, 15)
SUMMARY:LuxOC training - Bambësch
URL:https://orienteering.lu/en/calendar/events/luxoc-training-bambesch/
END:VEVENT
END:VCALENDAR
